BEGIN:VCALENDAR
VERSION:2.0
PRODID:spatie/icalendar-generator
DESCRIPTION:Events from Facultad de Ciencias Exactas y Naturales de la Univ
 ersidad de Buenos Aires
X-WR-CALDESC:Events from Facultad de Ciencias Exactas y Naturales de la Uni
 versidad de Buenos Aires
REFRESH-INTERVAL;VALUE=DURATION:PT1440M
X-PUBLISHED-TTL:PT1440M
BEGIN:VTIMEZONE
TZID:America/Argentina/Buenos_Aires
BEGIN:STANDARD
DTSTART:20250728T120000Z
TZOFFSETFROM:-0300
TZOFFSETTO:-0300
END:STANDARD
END:VTIMEZONE
BEGIN:VTIMEZONE
TZID:UTC
BEGIN:STANDARD
DTSTART:20250727T171359Z
TZOFFSETFROM:+0000
TZOFFSETTO:+0000
END:STANDARD
END:VTIMEZONE
BEGIN:VEVENT
UID:3019-2255
DTSTAMP:20260423T171359Z
SUMMARY:Seminario de Modelos Estocásticos\, con Ciro Carvallo (2° Parte)
LOCATION:
ORGANIZER;CN=Gabriel Platas:MAILTO:gfplatas@de.fcen.uba.ar
DTSTART;TZID=America/Argentina/Buenos_Aires:20260424T120000
DTEND;TZID=America/Argentina/Buenos_Aires:20260424T130000
X-ALT-DESC;FMTTYPE=TEXT/HTML:Viernes 24/4\, a las 12 hs enla Sala de confer
 encias del Departamento de Matemática. \"Fluid Limits for Markov Processe
 s and Convergence Near Saddle Points - Parte 2\"\, por Ciro Carvallo (IMAS
  - UBA). Para más información sobre el grupo de probabilidad: https://ma
 te.dm.uba.ar/~modesto/
CATEGORIES:General
URL;VALUE=URI:https://exactas.uba.ar/agenda/?mc_id=3019&#038;vcal=3019
METHOD:PUBLISH
END:VEVENT
END:VCALENDAR