BEGIN:VCALENDAR
VERSION:2.0
PRODID:spatie/icalendar-generator
DESCRIPTION:Events from Facultad de Ciencias Exactas y Naturales de la Univ
 ersidad de Buenos Aires
X-WR-CALDESC:Events from Facultad de Ciencias Exactas y Naturales de la Uni
 versidad de Buenos Aires
REFRESH-INTERVAL;VALUE=DURATION:PT1440M
X-PUBLISHED-TTL:PT1440M
BEGIN:VTIMEZONE
TZID:America/Argentina/Buenos_Aires
BEGIN:STANDARD
DTSTART:20201219T000000Z
TZOFFSETFROM:-0300
TZOFFSETTO:-0300
END:STANDARD
END:VTIMEZONE
BEGIN:VTIMEZONE
TZID:UTC
BEGIN:STANDARD
DTSTART:20250729T132346Z
TZOFFSETFROM:+0000
TZOFFSETTO:+0000
END:STANDARD
END:VTIMEZONE
BEGIN:VEVENT
UID:940-490
DTSTAMP:20260425T132346Z
SUMMARY:Becas de movilidad académica internacional de la AUIP
LOCATION:
ORGANIZER;CN=CCC:MAILTO:ccc@fcen.uba.ar
DTSTART;TZID=America/Argentina/Buenos_Aires;VALUE=DATE:20210915
DTEND;TZID=America/Argentina/Buenos_Aires;VALUE=DATE:20210916
X-ALT-DESC;FMTTYPE=TEXT/HTML:Está abierta la convocatoria que ofrece becas
  para promover y favorecer la movilidad académica internacional entre uni
 versidades andaluzas e iberoamericanas de la AUIP. El programa va dirigido
  a profesores e investigadores\; gestores de programas de posgrado y docto
 rado\, y estudiantes de posgrado y doctorado. Período de movilidad: Desde
  enero hasta junio de 2022. Vencimiento ante&amp;hellip\;
CATEGORIES:General
URL;VALUE=URI:https://exactas.uba.ar/agenda/?mc_id=940&#038;vcal=940
METHOD:PUBLISH
END:VEVENT
END:VCALENDAR