BEGIN:VCALENDAR
VERSION:2.0
PRODID:spatie/icalendar-generator
DESCRIPTION:Events from Facultad de Ciencias Exactas y Naturales de la Univ
 ersidad de Buenos Aires
X-WR-CALDESC:Events from Facultad de Ciencias Exactas y Naturales de la Uni
 versidad de Buenos Aires
REFRESH-INTERVAL;VALUE=DURATION:PT1440M
X-PUBLISHED-TTL:PT1440M
BEGIN:VTIMEZONE
TZID:America/Argentina/Buenos_Aires
BEGIN:STANDARD
DTSTART:20201220T140000Z
TZOFFSETFROM:-0300
TZOFFSETTO:-0300
END:STANDARD
END:VTIMEZONE
BEGIN:VTIMEZONE
TZID:UTC
BEGIN:STANDARD
DTSTART:20250727T171714Z
TZOFFSETFROM:+0000
TZOFFSETTO:+0000
END:STANDARD
END:VTIMEZONE
BEGIN:VEVENT
UID:930-517
DTSTAMP:20260423T171714Z
SUMMARY:Coloquio del Departamento de Física
LOCATION:
ORGANIZER;CN=CCC:MAILTO:ccc@fcen.uba.ar
DTSTART;TZID=America/Argentina/Buenos_Aires:20210916T140000
DTEND;TZID=America/Argentina/Buenos_Aires:20210916T150000
X-ALT-DESC;FMTTYPE=TEXT/HTML:Este jueves 16 de septiembre\, a las 14\, se o
 frecerá el coloquio \"Misiones argentinas y el desafío de la operación 
 satelital\"\, que estará a cargo de Bruno Danielo\, INVAP. Vía YouTube: 
 https://youtu.be/MrsS99xCvdY
CATEGORIES:General
URL;VALUE=URI:https://exactas.uba.ar/agenda/?mc_id=930&#038;vcal=930
METHOD:PUBLISH
END:VEVENT
END:VCALENDAR