BEGIN:VCALENDAR
VERSION:2.0
PRODID:spatie/icalendar-generator
DESCRIPTION:Events from Facultad de Ciencias Exactas y Naturales de la Univ
 ersidad de Buenos Aires
X-WR-CALDESC:Events from Facultad de Ciencias Exactas y Naturales de la Uni
 versidad de Buenos Aires
REFRESH-INTERVAL;VALUE=DURATION:PT1440M
X-PUBLISHED-TTL:PT1440M
BEGIN:VTIMEZONE
TZID:America/Argentina/Buenos_Aires
BEGIN:STANDARD
DTSTART:20201103T000000Z
TZOFFSETFROM:-0300
TZOFFSETTO:-0300
END:STANDARD
END:VTIMEZONE
BEGIN:VTIMEZONE
TZID:UTC
BEGIN:STANDARD
DTSTART:20250728T204425Z
TZOFFSETFROM:+0000
TZOFFSETTO:+0000
END:STANDARD
END:VTIMEZONE
BEGIN:VEVENT
UID:786-437
DTSTAMP:20260424T204425Z
SUMMARY:\"Ecuaciones Diferenciales y Probabilidad\" (UMA)
LOCATION:
ORGANIZER;CN=CCC:MAILTO:ccc@fcen.uba.ar
DTSTART;TZID=America/Argentina/Buenos_Aires;VALUE=DATE:20210731
DTEND;TZID=America/Argentina/Buenos_Aires;VALUE=DATE:20210801
X-ALT-DESC;FMTTYPE=TEXT/HTML:Está abierta la convocatoria para presentar t
 rabajos de investigación en la Sesión 5 \"Ecuaciones Diferenciales y Pro
 babilidad\" de la reunión anual 2021 de la Unión Matemática Argentina. 
 La reunión se desarrollará en formato online del 20 al 24 de septiembre 
 próximos. El envío de comunicaciones científicas está abierto hasta el
  2 de agosto. La inscripción&amp;hellip\;
CATEGORIES:General
URL;VALUE=URI:https://exactas.uba.ar/agenda/?mc_id=786&#038;vcal=786
METHOD:PUBLISH
END:VEVENT
END:VCALENDAR