BEGIN:VCALENDAR
VERSION:2.0
PRODID:spatie/icalendar-generator
DESCRIPTION:Events from Facultad de Ciencias Exactas y Naturales de la Univ
 ersidad de Buenos Aires
X-WR-CALDESC:Events from Facultad de Ciencias Exactas y Naturales de la Uni
 versidad de Buenos Aires
REFRESH-INTERVAL;VALUE=DURATION:PT1440M
X-PUBLISHED-TTL:PT1440M
BEGIN:VTIMEZONE
TZID:America/Argentina/Buenos_Aires
BEGIN:STANDARD
DTSTART:20190907T150000Z
TZOFFSETFROM:-0300
TZOFFSETTO:-0300
END:STANDARD
END:VTIMEZONE
BEGIN:VTIMEZONE
TZID:UTC
BEGIN:STANDARD
DTSTART:20250729T003754Z
TZOFFSETFROM:+0000
TZOFFSETTO:+0000
END:STANDARD
END:VTIMEZONE
BEGIN:VEVENT
UID:54-22
DTSTAMP:20260425T003754Z
SUMMARY:Charlas de las carreras vía Zoom: Ciencias Físicas
LOCATION:
ORGANIZER;CN=CCC:MAILTO:ccc@fcen.uba.ar
DTSTART;TZID=America/Argentina/Buenos_Aires:20200603T150000
DTEND;TZID=America/Argentina/Buenos_Aires:20200603T160000
X-ALT-DESC;FMTTYPE=TEXT/HTML:Durante los meses de mayo y junio\, a las 15 h
 s.\, se estarán desarrollando las Charlas de las Carreras\, vía Zoom. Mi
 ércoles 3 de junio: Ciencias Físicas Link de inscripción: https://bit.l
 y/CharlasExactas
CATEGORIES:General
URL;VALUE=URI:https://exactas.uba.ar/agenda/?mc_id=54&#038;vcal=54
METHOD:PUBLISH
END:VEVENT
END:VCALENDAR