BEGIN:VCALENDAR
VERSION:2.0
PRODID:spatie/icalendar-generator
DESCRIPTION:Events from Facultad de Ciencias Exactas y Naturales de la Univ
 ersidad de Buenos Aires
X-WR-CALDESC:Events from Facultad de Ciencias Exactas y Naturales de la Uni
 versidad de Buenos Aires
REFRESH-INTERVAL;VALUE=DURATION:PT1440M
X-PUBLISHED-TTL:PT1440M
BEGIN:VTIMEZONE
TZID:America/Argentina/Buenos_Aires
BEGIN:STANDARD
DTSTART:20200720T000000Z
TZOFFSETFROM:-0300
TZOFFSETTO:-0300
END:STANDARD
END:VTIMEZONE
BEGIN:VTIMEZONE
TZID:UTC
BEGIN:STANDARD
DTSTART:20250723T215303Z
TZOFFSETFROM:+0000
TZOFFSETTO:+0000
END:STANDARD
END:VTIMEZONE
BEGIN:VEVENT
UID:533-290
DTSTAMP:20260419T215303Z
SUMMARY:Becas del Grupo Coimbra
LOCATION:
ORGANIZER;CN=CCC:MAILTO:ccc@fcen.uba.ar
DTSTART;TZID=America/Argentina/Buenos_Aires;VALUE=DATE:20210416
DTEND;TZID=America/Argentina/Buenos_Aires;VALUE=DATE:20210417
X-ALT-DESC;FMTTYPE=TEXT/HTML:Está abierta una convocatoria de Becas del Gr
 upo Coimbra para jóvenes profesores e investigadores latinoamericanos. Es
 te Programa ofrece becas para financiar visitas de investigación de corta
  duración\, con el objetivo de favorecer la movilidad y el intercambio ac
 adémico de docentes e investigadores entre Europa y Latinoamérica. Las p
 ostulaciones deben ser presentadas a través de la&amp;hellip\;
CATEGORIES:General
URL;VALUE=URI:https://exactas.uba.ar/agenda/?mc_id=533&#038;vcal=533
METHOD:PUBLISH
END:VEVENT
END:VCALENDAR