BEGIN:VCALENDAR
VERSION:2.0
PRODID:spatie/icalendar-generator
DESCRIPTION:Events from Facultad de Ciencias Exactas y Naturales de la Univ
 ersidad de Buenos Aires
X-WR-CALDESC:Events from Facultad de Ciencias Exactas y Naturales de la Uni
 versidad de Buenos Aires
REFRESH-INTERVAL;VALUE=DURATION:PT1440M
X-PUBLISHED-TTL:PT1440M
BEGIN:VTIMEZONE
TZID:America/Argentina/Buenos_Aires
BEGIN:STANDARD
DTSTART:20200803T000000Z
TZOFFSETFROM:-0300
TZOFFSETTO:-0300
END:STANDARD
END:VTIMEZONE
BEGIN:VTIMEZONE
TZID:UTC
BEGIN:STANDARD
DTSTART:20250725T095006Z
TZOFFSETFROM:+0000
TZOFFSETTO:+0000
END:STANDARD
END:VTIMEZONE
BEGIN:VEVENT
UID:452-254
DTSTAMP:20260421T095006Z
SUMMARY:Becas Estratégicas Manuel Belgrano
LOCATION:
ORGANIZER;CN=CCC:MAILTO:ccc@fcen.uba.ar
DTSTART;TZID=America/Argentina/Buenos_Aires;VALUE=DATE:20210430
DTEND;TZID=America/Argentina/Buenos_Aires;VALUE=DATE:20210501
X-ALT-DESC;FMTTYPE=TEXT/HTML:El Ministerio de Educación de la Nación otor
 ga las Becas Estratégicas Manuel Belgrano\, con el objetivo de promover e
 l ingreso\, continuidad y graduación de estudiantes de carreras estratég
 icas para el desarrollo económico y social\, e impulsar la vinculación e
 ntre universidades públicas\, sistema tecnológico-productivo y el mercad
 o laboral. Esta primera convocatoria del año 2021 contará con&amp;hellip\;
CATEGORIES:General
URL;VALUE=URI:https://exactas.uba.ar/agenda/?mc_id=452&#038;vcal=452
METHOD:PUBLISH
END:VEVENT
END:VCALENDAR