BEGIN:VCALENDAR
VERSION:2.0
PRODID:spatie/icalendar-generator
DESCRIPTION:Events from Facultad de Ciencias Exactas y Naturales de la Univ
 ersidad de Buenos Aires
X-WR-CALDESC:Events from Facultad de Ciencias Exactas y Naturales de la Uni
 versidad de Buenos Aires
REFRESH-INTERVAL;VALUE=DURATION:PT1440M
X-PUBLISHED-TTL:PT1440M
BEGIN:VTIMEZONE
TZID:America/Argentina/Buenos_Aires
BEGIN:STANDARD
DTSTART:20250803T130000Z
TZOFFSETFROM:-0300
TZOFFSETTO:-0300
END:STANDARD
END:VTIMEZONE
BEGIN:VTIMEZONE
TZID:UTC
BEGIN:STANDARD
DTSTART:20250729T041545Z
TZOFFSETFROM:+0000
TZOFFSETTO:+0000
END:STANDARD
END:VTIMEZONE
BEGIN:VEVENT
UID:3021-2257
DTSTAMP:20260425T041545Z
SUMMARY:Coloquio DCAO/CIMA/IFAECI\, con Francoise Dal'Bo
LOCATION:
ORGANIZER;CN=Gabriel Platas:MAILTO:gfplatas@de.fcen.uba.ar
DTSTART;TZID=America/Argentina/Buenos_Aires:20260430T130000
DTEND;TZID=America/Argentina/Buenos_Aires:20260430T140000
X-ALT-DESC;FMTTYPE=TEXT/HTML:Jueves 30/4\, a las 13 hs en la Sala de Reunio
 nes 2308 del Pabellón Cero + Infinito. \"On the behavior of the geodesic 
 flow on negatively curved surfaces: an introduction\"\, por Francoise Dal'
 Bo (Institut De Mathématiques de l'Université de Rennes - France\, Frenc
 h-Uruguayan CNRS Laboratory \"Laboratorio Del Plata\") Para quienes no pue
 den acercarse: Enlace Google&amp;hellip\;
CATEGORIES:General
URL;VALUE=URI:https://exactas.uba.ar/agenda/?mc_id=3021&#038;vcal=3021
METHOD:PUBLISH
END:VEVENT
END:VCALENDAR