BEGIN:VCALENDAR
VERSION:2.0
PRODID:spatie/icalendar-generator
DESCRIPTION:Events from Facultad de Ciencias Exactas y Naturales de la Univ
 ersidad de Buenos Aires
X-WR-CALDESC:Events from Facultad de Ciencias Exactas y Naturales de la Uni
 versidad de Buenos Aires
REFRESH-INTERVAL;VALUE=DURATION:PT1440M
X-PUBLISHED-TTL:PT1440M
BEGIN:VTIMEZONE
TZID:America/Argentina/Buenos_Aires
BEGIN:STANDARD
DTSTART:20240217T130000Z
TZOFFSETFROM:-0300
TZOFFSETTO:-0300
END:STANDARD
END:VTIMEZONE
BEGIN:VTIMEZONE
TZID:UTC
BEGIN:STANDARD
DTSTART:20250725T224447Z
TZOFFSETFROM:+0000
TZOFFSETTO:+0000
END:STANDARD
END:VTIMEZONE
BEGIN:VEVENT
UID:2545-1812
DTSTAMP:20260421T224447Z
SUMMARY:Coloquios DCAO/CIMA/IFAECI\, con Julia Neme
LOCATION:
ORGANIZER;CN=Gabriel Platas:MAILTO:gfplatas@de.fcen.uba.ar
DTSTART;TZID=America/Argentina/Buenos_Aires:20241113T130000
DTEND;TZID=America/Argentina/Buenos_Aires:20241113T140000
X-ALT-DESC;FMTTYPE=TEXT/HTML:Miércoles 13/11\, a las 13 horas en Of. 2308 
 del Cero + Infinito. \"Variabilidad y dinámica del Giro de Weddell\"\, po
 r la Dra. Julia Neme (Universidad de Tasmania\, Australia). Para quienes n
 o pueden acercarse: https://exactas-uba.zoom.us/j/81221954315 ID de reuni
 ón: 812 2195 4315 Código de acceso: coloquios
CATEGORIES:General
URL;VALUE=URI:https://exactas.uba.ar/agenda/?mc_id=2545&#038;vcal=2545
METHOD:PUBLISH
END:VEVENT
END:VCALENDAR