BEGIN:VCALENDAR
VERSION:2.0
PRODID:spatie/icalendar-generator
DESCRIPTION:Events from Facultad de Ciencias Exactas y Naturales de la Univ
 ersidad de Buenos Aires
X-WR-CALDESC:Events from Facultad de Ciencias Exactas y Naturales de la Uni
 versidad de Buenos Aires
REFRESH-INTERVAL;VALUE=DURATION:PT1440M
X-PUBLISHED-TTL:PT1440M
BEGIN:VTIMEZONE
TZID:America/Argentina/Buenos_Aires
BEGIN:STANDARD
DTSTART:20240210T140000Z
TZOFFSETFROM:-0300
TZOFFSETTO:-0300
END:STANDARD
END:VTIMEZONE
BEGIN:VTIMEZONE
TZID:UTC
BEGIN:STANDARD
DTSTART:20250725T211929Z
TZOFFSETFROM:+0000
TZOFFSETTO:+0000
END:STANDARD
END:VTIMEZONE
BEGIN:VEVENT
UID:2543-1810
DTSTAMP:20260421T211929Z
SUMMARY:Coloquio del IAFE\, con Félix Mirabel
LOCATION:
ORGANIZER;CN=Gabriel Platas:MAILTO:gfplatas@de.fcen.uba.ar
DTSTART;TZID=America/Argentina/Buenos_Aires:20241106T140000
DTEND;TZID=America/Argentina/Buenos_Aires:20241106T150000
X-ALT-DESC;FMTTYPE=TEXT/HTML:Miércoles 6/11\, a las 14 horas en el edifici
 o del IAFE. \"Agujeros Negros y Galaxias en el Amanecer Cósmico\"\, por e
 l Dr. Félix Mirabel.
CATEGORIES:General
URL;VALUE=URI:https://exactas.uba.ar/agenda/?mc_id=2543&#038;vcal=2543
METHOD:PUBLISH
END:VEVENT
END:VCALENDAR