BEGIN:VCALENDAR
VERSION:2.0
PRODID:spatie/icalendar-generator
DESCRIPTION:Events from Facultad de Ciencias Exactas y Naturales de la Univ
 ersidad de Buenos Aires
X-WR-CALDESC:Events from Facultad de Ciencias Exactas y Naturales de la Uni
 versidad de Buenos Aires
REFRESH-INTERVAL;VALUE=DURATION:PT1440M
X-PUBLISHED-TTL:PT1440M
BEGIN:VTIMEZONE
TZID:America/Argentina/Buenos_Aires
BEGIN:STANDARD
DTSTART:20240212T153000Z
TZOFFSETFROM:-0300
TZOFFSETTO:-0300
END:STANDARD
END:VTIMEZONE
BEGIN:VTIMEZONE
TZID:UTC
BEGIN:STANDARD
DTSTART:20250723T142207Z
TZOFFSETFROM:+0000
TZOFFSETTO:+0000
END:STANDARD
END:VTIMEZONE
BEGIN:VEVENT
UID:2534-1803
DTSTAMP:20260419T142207Z
SUMMARY:Homenaje a Juan Carlos Losoviz y Alberto \"Beto\" Gutman\, desapare
 cidos de la dictadura
LOCATION:
ORGANIZER;CN=Gabriel Platas:MAILTO:gfplatas@de.fcen.uba.ar
DTSTART;TZID=America/Argentina/Buenos_Aires:20241108T153000
DTEND;TZID=America/Argentina/Buenos_Aires:20241108T163000
X-ALT-DESC;FMTTYPE=TEXT/HTML:El próximo viernes 8 de noviembre a las 15.30
  hs serán plantados dos arbolitos en homenaje a Juan Carlos Losoviz y Alb
 erto \"Beto\" Gutman\, estudiantes de Física secuestrados de sus domicili
 os el 27 y 28 de septiembre de 1976. Invitamos a sus compañeros\, amigos\
 , familiares y a toda la comunidad de Exactas a acompañarnos en&amp;hellip\;
CATEGORIES:General
URL;VALUE=URI:https://exactas.uba.ar/agenda/?mc_id=2534&#038;vcal=2534
METHOD:PUBLISH
END:VEVENT
END:VCALENDAR