BEGIN:VCALENDAR
VERSION:2.0
PRODID:spatie/icalendar-generator
DESCRIPTION:Events from Facultad de Ciencias Exactas y Naturales de la Univ
 ersidad de Buenos Aires
X-WR-CALDESC:Events from Facultad de Ciencias Exactas y Naturales de la Uni
 versidad de Buenos Aires
REFRESH-INTERVAL;VALUE=DURATION:PT1440M
X-PUBLISHED-TTL:PT1440M
BEGIN:VTIMEZONE
TZID:America/Argentina/Buenos_Aires
BEGIN:STANDARD
DTSTART:20240204T140000Z
TZOFFSETFROM:-0300
TZOFFSETTO:-0300
END:STANDARD
END:VTIMEZONE
BEGIN:VTIMEZONE
TZID:UTC
BEGIN:STANDARD
DTSTART:20250724T174508Z
TZOFFSETFROM:+0000
TZOFFSETTO:+0000
END:STANDARD
END:VTIMEZONE
BEGIN:VEVENT
UID:2531-1800
DTSTAMP:20260420T174508Z
SUMMARY:Capacitación: Herramientas comunicacionales en las relaciones labo
 rales
LOCATION:
ORGANIZER;CN=Gabriel Platas:MAILTO:gfplatas@de.fcen.uba.ar
DTSTART;TZID=America/Argentina/Buenos_Aires:20241031T140000
DTEND;TZID=America/Argentina/Buenos_Aires:20241031T150000
X-ALT-DESC;FMTTYPE=TEXT/HTML:El Servicio de Higiene y Seguridad ha organiza
 do una nueva Capacitación sobre: HERRAMIENTAS COMUNICACIONALES EN LAS REL
 ACIONES LABORALES. La misma está dirigida\, y es de carácter indispensab
 le\, para todos los trabajadores de FCEN. Su objetivo es brindar herramien
 tas que permitan mejorar el sistema de comunicación interna\, enriquecien
 do el ambiente laboral. La duración aproximada es de&amp;hellip\;
CATEGORIES:General
URL;VALUE=URI:https://exactas.uba.ar/agenda/?mc_id=2531&#038;vcal=2531
METHOD:PUBLISH
END:VEVENT
END:VCALENDAR