BEGIN:VCALENDAR
VERSION:2.0
PRODID:spatie/icalendar-generator
DESCRIPTION:Events from Facultad de Ciencias Exactas y Naturales de la Univ
 ersidad de Buenos Aires
X-WR-CALDESC:Events from Facultad de Ciencias Exactas y Naturales de la Uni
 versidad de Buenos Aires
REFRESH-INTERVAL;VALUE=DURATION:PT1440M
X-PUBLISHED-TTL:PT1440M
BEGIN:VTIMEZONE
TZID:America/Argentina/Buenos_Aires
BEGIN:STANDARD
DTSTART:20240122T110000Z
TZOFFSETFROM:-0300
TZOFFSETTO:-0300
END:STANDARD
END:VTIMEZONE
BEGIN:VTIMEZONE
TZID:UTC
BEGIN:STANDARD
DTSTART:20250724T174508Z
TZOFFSETFROM:+0000
TZOFFSETTO:+0000
END:STANDARD
END:VTIMEZONE
BEGIN:VEVENT
UID:2495-1767
DTSTAMP:20260420T174508Z
SUMMARY:Ciclo de charlas INGEIS 2024\, con Lucas Martín Fennell
LOCATION:
ORGANIZER;CN=Gabriel Platas:MAILTO:gfplatas@de.fcen.uba.ar
DTSTART;TZID=America/Argentina/Buenos_Aires:20241018T110000
DTEND;TZID=America/Argentina/Buenos_Aires:20241018T120000
X-ALT-DESC;FMTTYPE=TEXT/HTML:Viernes 18/10\, a las 11 horas\, en el Auditor
 io Pabellón INGEIS. Ciudad Universitaria. \"Paleotopografía utilizando i
 sótopos estables: develando el levantamiento de los Andes\"\, por Lucas M
 artín Fennell.
CATEGORIES:General
URL;VALUE=URI:https://exactas.uba.ar/agenda/?mc_id=2495&#038;vcal=2495
METHOD:PUBLISH
END:VEVENT
END:VCALENDAR