BEGIN:VCALENDAR
VERSION:2.0
PRODID:spatie/icalendar-generator
DESCRIPTION:Events from Facultad de Ciencias Exactas y Naturales de la Univ
 ersidad de Buenos Aires
X-WR-CALDESC:Events from Facultad de Ciencias Exactas y Naturales de la Uni
 versidad de Buenos Aires
REFRESH-INTERVAL;VALUE=DURATION:PT1440M
X-PUBLISHED-TTL:PT1440M
BEGIN:VTIMEZONE
TZID:America/Argentina/Buenos_Aires
BEGIN:STANDARD
DTSTART:20240118T000000Z
TZOFFSETFROM:-0300
TZOFFSETTO:-0300
END:STANDARD
END:VTIMEZONE
BEGIN:VTIMEZONE
TZID:UTC
BEGIN:STANDARD
DTSTART:20250729T132507Z
TZOFFSETFROM:+0000
TZOFFSETTO:+0000
END:STANDARD
END:VTIMEZONE
BEGIN:VEVENT
UID:2489-1762
DTSTAMP:20260425T132507Z
SUMMARY:Finaliza inscripción al Programa de Formación y Trabajo en la Bib
 lioteca Central de la FCEyN
LOCATION:
ORGANIZER;CN=Gabriel Platas:MAILTO:gfplatas@de.fcen.uba.ar
DTSTART;TZID=America/Argentina/Buenos_Aires;VALUE=DATE:20241014
DTEND;TZID=America/Argentina/Buenos_Aires;VALUE=DATE:20241015
X-ALT-DESC;FMTTYPE=TEXT/HTML:Informamos que entre el 30 de septiembre y el 
 14 de octubre será la inscripción para incorporarse al “Programa de Fo
 rmación y Trabajo en la Biblioteca Central de la FCEyN”. A partir de fe
 brero del año 2025\, se otorgarán cargos con una dedicación de 10 horas
  semanales (con haberes equivalentes a un cargo de ayudante&amp;hellip\;
CATEGORIES:General
URL;VALUE=URI:https://exactas.uba.ar/agenda/?mc_id=2489&#038;vcal=2489
METHOD:PUBLISH
END:VEVENT
END:VCALENDAR