BEGIN:VCALENDAR
VERSION:2.0
PRODID:spatie/icalendar-generator
DESCRIPTION:Events from Facultad de Ciencias Exactas y Naturales de la Univ
 ersidad de Buenos Aires
X-WR-CALDESC:Events from Facultad de Ciencias Exactas y Naturales de la Uni
 versidad de Buenos Aires
REFRESH-INTERVAL;VALUE=DURATION:PT1440M
X-PUBLISHED-TTL:PT1440M
BEGIN:VTIMEZONE
TZID:America/Argentina/Buenos_Aires
BEGIN:STANDARD
DTSTART:20231208T100000Z
TZOFFSETFROM:-0300
TZOFFSETTO:-0300
END:STANDARD
END:VTIMEZONE
BEGIN:VTIMEZONE
TZID:UTC
BEGIN:STANDARD
DTSTART:20250724T151747Z
TZOFFSETFROM:+0000
TZOFFSETTO:+0000
END:STANDARD
END:VTIMEZONE
BEGIN:VEVENT
UID:2456-1729
DTSTAMP:20260420T151747Z
SUMMARY:Elecciones Claustro de Graduados/as para Consejo Directivo
LOCATION:
ORGANIZER;CN=Gabriel Platas:MAILTO:gfplatas@de.fcen.uba.ar
DTSTART;TZID=America/Argentina/Buenos_Aires:20240903T100000
DTEND;TZID=America/Argentina/Buenos_Aires:20240907T200000
X-ALT-DESC;FMTTYPE=TEXT/HTML:Votan desde el martes 3 de septiembre hasta el
  sábado 7 de septiembre\, de martes a viernes de 10 a 20hs y el sábado d
 e de 10 a 16hs. De Ciencias Físicas\, Ciencias Matemáticas\, Ciencias de
  la Computación y Ciencias de Datos votarán en el Pabellón 1. De las de
 más carreras votarán en el Pabellón&amp;hellip\;
CATEGORIES:General
URL;VALUE=URI:https://exactas.uba.ar/agenda/?mc_id=2456&#038;vcal=2456
METHOD:PUBLISH
END:VEVENT
END:VCALENDAR