BEGIN:VCALENDAR
VERSION:2.0
PRODID:spatie/icalendar-generator
DESCRIPTION:Events from Facultad de Ciencias Exactas y Naturales de la Univ
 ersidad de Buenos Aires
X-WR-CALDESC:Events from Facultad de Ciencias Exactas y Naturales de la Uni
 versidad de Buenos Aires
REFRESH-INTERVAL;VALUE=DURATION:PT1440M
X-PUBLISHED-TTL:PT1440M
BEGIN:VTIMEZONE
TZID:America/Argentina/Buenos_Aires
BEGIN:STANDARD
DTSTART:20231217T000000Z
TZOFFSETFROM:-0300
TZOFFSETTO:-0300
END:STANDARD
END:VTIMEZONE
BEGIN:VTIMEZONE
TZID:UTC
BEGIN:STANDARD
DTSTART:20250726T131223Z
TZOFFSETFROM:+0000
TZOFFSETTO:+0000
END:STANDARD
END:VTIMEZONE
BEGIN:VEVENT
UID:2446-1721
DTSTAMP:20260422T131223Z
SUMMARY:Semana de la Computación y Ciencias de Datos
LOCATION:
ORGANIZER;CN=Irene Fernandez:MAILTO:irene.fernandez@de.fcen.uba.ar
DTSTART;TZID=America/Argentina/Buenos_Aires;VALUE=DATE:20240912
DTEND;TZID=America/Argentina/Buenos_Aires;VALUE=DATE:20240913
X-ALT-DESC;FMTTYPE=TEXT/HTML:Está abierta la inscripcion a tu escuela a la
  Semana de la Computación y de las Ciencias de Datos\, que se realizará 
 el 10 y el 12 de septiembre. El formulario para inscribirse estará dispon
 ible hasta el 8/8: https://t.co/yBJgYaTrb0
CATEGORIES:General
URL;VALUE=URI:https://exactas.uba.ar/agenda/?mc_id=2446&#038;vcal=2446
METHOD:PUBLISH
END:VEVENT
END:VCALENDAR