BEGIN:VCALENDAR
VERSION:2.0
PRODID:spatie/icalendar-generator
DESCRIPTION:Events from Facultad de Ciencias Exactas y Naturales de la Univ
 ersidad de Buenos Aires
X-WR-CALDESC:Events from Facultad de Ciencias Exactas y Naturales de la Uni
 versidad de Buenos Aires
REFRESH-INTERVAL;VALUE=DURATION:PT1440M
X-PUBLISHED-TTL:PT1440M
BEGIN:VTIMEZONE
TZID:America/Argentina/Buenos_Aires
BEGIN:STANDARD
DTSTART:20231120T000000Z
TZOFFSETFROM:-0300
TZOFFSETTO:-0300
END:STANDARD
END:VTIMEZONE
BEGIN:VTIMEZONE
TZID:UTC
BEGIN:STANDARD
DTSTART:20250729T132240Z
TZOFFSETFROM:+0000
TZOFFSETTO:+0000
END:STANDARD
END:VTIMEZONE
BEGIN:VEVENT
UID:2425-1702
DTSTAMP:20260425T132240Z
SUMMARY:Charla de los viernes: “Agricultura sustentable: de la biología 
 a la tecnología del ARN”\, con Federico Ariel
LOCATION:
ORGANIZER;CN=Gabriel Platas:MAILTO:gfplatas@de.fcen.uba.ar
DTSTART;TZID=America/Argentina/Buenos_Aires:20240816T000000
DTEND;TZID=America/Argentina/Buenos_Aires:20240816T010000
X-ALT-DESC;FMTTYPE=TEXT/HTML:El viernes 16 de agosto a las 14 en el aula 14
 03 del Cero + Infinito tendrá lugar una nueva charla de los viernes\, en 
 esta ocasión\, a cargo de Federico Ariel\, titulada: “Agricultura suste
 ntable: de la biología a la tecnología del ARN”.
CATEGORIES:General
URL;VALUE=URI:https://exactas.uba.ar/agenda/?mc_id=2425&#038;vcal=2425
METHOD:PUBLISH
END:VEVENT
END:VCALENDAR