BEGIN:VCALENDAR
VERSION:2.0
PRODID:spatie/icalendar-generator
DESCRIPTION:Events from Facultad de Ciencias Exactas y Naturales de la Univ
 ersidad de Buenos Aires
X-WR-CALDESC:Events from Facultad de Ciencias Exactas y Naturales de la Uni
 versidad de Buenos Aires
REFRESH-INTERVAL;VALUE=DURATION:PT1440M
X-PUBLISHED-TTL:PT1440M
BEGIN:VTIMEZONE
TZID:America/Argentina/Buenos_Aires
BEGIN:STANDARD
DTSTART:20231207T100000Z
TZOFFSETFROM:-0300
TZOFFSETTO:-0300
END:STANDARD
END:VTIMEZONE
BEGIN:VTIMEZONE
TZID:UTC
BEGIN:STANDARD
DTSTART:20250724T125236Z
TZOFFSETFROM:+0000
TZOFFSETTO:+0000
END:STANDARD
END:VTIMEZONE
BEGIN:VEVENT
UID:2416-1695
DTSTAMP:20260420T125236Z
SUMMARY:Elecciones Claustro de Estudiantes para Consejo Directivo
LOCATION:
ORGANIZER;CN=Gabriel Platas:MAILTO:gfplatas@de.fcen.uba.ar
DTSTART;TZID=America/Argentina/Buenos_Aires:20240902T100000
DTEND;TZID=America/Argentina/Buenos_Aires:20240906T200000
X-ALT-DESC;FMTTYPE=TEXT/HTML:Votan del lunes 2 hasta el viernes 6 de septie
 mbre\, de 10 a 20 horas. En el Pabellón 1 votan estudiantes de las carrer
 as de Licenciatura en Ciencias de la Computación\, Ciencia de Datos\, Cie
 ncias Físicas\, Ciencias Matemáticas y de los profesorados de Computaci
 ón\, Física y Matemática. Las mesas estarán ubicadas en el hall de&amp;hel
 lip\;
CATEGORIES:General
URL;VALUE=URI:https://exactas.uba.ar/agenda/?mc_id=2416&#038;vcal=2416
METHOD:PUBLISH
END:VEVENT
END:VCALENDAR