BEGIN:VCALENDAR
VERSION:2.0
PRODID:spatie/icalendar-generator
DESCRIPTION:Events from Facultad de Ciencias Exactas y Naturales de la Univ
 ersidad de Buenos Aires
X-WR-CALDESC:Events from Facultad de Ciencias Exactas y Naturales de la Uni
 versidad de Buenos Aires
REFRESH-INTERVAL;VALUE=DURATION:PT1440M
X-PUBLISHED-TTL:PT1440M
BEGIN:VTIMEZONE
TZID:America/Argentina/Buenos_Aires
BEGIN:STANDARD
DTSTART:20231009T000000Z
TZOFFSETFROM:-0300
TZOFFSETTO:-0300
END:STANDARD
END:VTIMEZONE
BEGIN:VTIMEZONE
TZID:UTC
BEGIN:STANDARD
DTSTART:20250723T151445Z
TZOFFSETFROM:+0000
TZOFFSETTO:+0000
END:STANDARD
END:VTIMEZONE
BEGIN:VEVENT
UID:2370-1649
DTSTAMP:20260419T151445Z
SUMMARY:Finaliza inscripción a cursos de la Escuela de Ciencias Informáti
 cas (ECI 2024) para estudiantes de grado y doctorandos de Exactas-UBA
LOCATION:
ORGANIZER;CN=Gabriel Platas:MAILTO:gfplatas@de.fcen.uba.ar
DTSTART;TZID=America/Argentina/Buenos_Aires;VALUE=DATE:20240705
DTEND;TZID=America/Argentina/Buenos_Aires;VALUE=DATE:20240706
X-ALT-DESC;FMTTYPE=TEXT/HTML:Del 29 de julio al 2 de agosto se desarrollar
 á en modalidad presencial la 37º edición de la Escuela de Ciencias Info
 rmáticas\, ECI 2024\, organizada por el Departamento de Computación de l
 a Facultad de Ciencias Exactas y Naturales de la Universidad de Buenos Air
 es. La inscripción a los cursos se encuentra abierta hasta el 19&amp;hellip\;
CATEGORIES:General
URL;VALUE=URI:https://exactas.uba.ar/agenda/?mc_id=2370&#038;vcal=2370
METHOD:PUBLISH
END:VEVENT
END:VCALENDAR