BEGIN:VCALENDAR
VERSION:2.0
PRODID:spatie/icalendar-generator
DESCRIPTION:Events from Facultad de Ciencias Exactas y Naturales de la Univ
 ersidad de Buenos Aires
X-WR-CALDESC:Events from Facultad de Ciencias Exactas y Naturales de la Uni
 versidad de Buenos Aires
REFRESH-INTERVAL;VALUE=DURATION:PT1440M
X-PUBLISHED-TTL:PT1440M
BEGIN:VTIMEZONE
TZID:America/Argentina/Buenos_Aires
BEGIN:STANDARD
DTSTART:20230909T130000Z
TZOFFSETFROM:-0300
TZOFFSETTO:-0300
END:STANDARD
END:VTIMEZONE
BEGIN:VTIMEZONE
TZID:UTC
BEGIN:STANDARD
DTSTART:20250724T162252Z
TZOFFSETFROM:+0000
TZOFFSETTO:+0000
END:STANDARD
END:VTIMEZONE
BEGIN:VEVENT
UID:2352-1631
DTSTAMP:20260420T162252Z
SUMMARY:Seminario de Probabilidad\, con Kavita Ramanan
LOCATION:
ORGANIZER;CN=Gabriel Platas:MAILTO:gfplatas@de.fcen.uba.ar
DTSTART;TZID=America/Argentina/Buenos_Aires:20240605T130000
DTEND;TZID=America/Argentina/Buenos_Aires:20240605T140000
X-ALT-DESC;FMTTYPE=TEXT/HTML:Miércoles 5 de junio\, a las 13.00 horas. \"Q
 uenched Hydrodynamic Limits for Interacting Jump Processes on Sparse Rando
 m Graphs\"\, por Kavita Ramanan (University of Brown). Debido al paro doce
 nte\, en esta oportunidad el seminario será virtual\, y transmitido por: 
 https://impa-br.zoom.us/j/95805813232?pwd=Rnd4TU9pUTRhQm5xa0Mvb0gxa0xDUT09
CATEGORIES:General
URL;VALUE=URI:https://exactas.uba.ar/agenda/?mc_id=2352&#038;vcal=2352
METHOD:PUBLISH
END:VEVENT
END:VCALENDAR