BEGIN:VCALENDAR
VERSION:2.0
PRODID:spatie/icalendar-generator
DESCRIPTION:Events from Facultad de Ciencias Exactas y Naturales de la Univ
 ersidad de Buenos Aires
X-WR-CALDESC:Events from Facultad de Ciencias Exactas y Naturales de la Uni
 versidad de Buenos Aires
REFRESH-INTERVAL;VALUE=DURATION:PT1440M
X-PUBLISHED-TTL:PT1440M
BEGIN:VTIMEZONE
TZID:America/Argentina/Buenos_Aires
BEGIN:STANDARD
DTSTART:20230901T000000Z
TZOFFSETFROM:-0300
TZOFFSETTO:-0300
END:STANDARD
END:VTIMEZONE
BEGIN:VTIMEZONE
TZID:UTC
BEGIN:STANDARD
DTSTART:20250724T002820Z
TZOFFSETFROM:+0000
TZOFFSETTO:+0000
END:STANDARD
END:VTIMEZONE
BEGIN:VEVENT
UID:2327-1607
DTSTAMP:20260420T002820Z
SUMMARY:Finaliza inscripción a visita guiada al Parque de la Memoria exclu
 siva para la comunidad de Exactas
LOCATION:
ORGANIZER;CN=Gabriel Platas:MAILTO:gfplatas@de.fcen.uba.ar
DTSTART;TZID=America/Argentina/Buenos_Aires;VALUE=DATE:20240528
DTEND;TZID=America/Argentina/Buenos_Aires;VALUE=DATE:20240529
X-ALT-DESC;FMTTYPE=TEXT/HTML:Jueves 30 de mayo\, a las 14.30 horas. Av. Cos
 tanera Rafael Obligado 6745. Inscripcion hasta el 28 de mayo inclusive en:
  https://t.co/yZCZvKhH5o
CATEGORIES:General
URL;VALUE=URI:https://exactas.uba.ar/agenda/?mc_id=2327&#038;vcal=2327
METHOD:PUBLISH
END:VEVENT
END:VCALENDAR