BEGIN:VCALENDAR
VERSION:2.0
PRODID:spatie/icalendar-generator
DESCRIPTION:Events from Facultad de Ciencias Exactas y Naturales de la Univ
 ersidad de Buenos Aires
X-WR-CALDESC:Events from Facultad de Ciencias Exactas y Naturales de la Uni
 versidad de Buenos Aires
REFRESH-INTERVAL;VALUE=DURATION:PT1440M
X-PUBLISHED-TTL:PT1440M
BEGIN:VTIMEZONE
TZID:America/Argentina/Buenos_Aires
BEGIN:STANDARD
DTSTART:20230819T130000Z
TZOFFSETFROM:-0300
TZOFFSETTO:-0300
END:STANDARD
END:VTIMEZONE
BEGIN:VTIMEZONE
TZID:UTC
BEGIN:STANDARD
DTSTART:20250724T174508Z
TZOFFSETFROM:+0000
TZOFFSETTO:+0000
END:STANDARD
END:VTIMEZONE
BEGIN:VEVENT
UID:2325-1605
DTSTAMP:20260420T174508Z
SUMMARY:Seminario de Probabilidad\, con Stefano Olla
LOCATION:
ORGANIZER;CN=Gabriel Platas:MAILTO:gfplatas@de.fcen.uba.ar
DTSTART;TZID=America/Argentina/Buenos_Aires:20240515T130000
DTEND;TZID=America/Argentina/Buenos_Aires:20240515T140000
X-ALT-DESC;FMTTYPE=TEXT/HTML:Miércoles 15 de mayo\, a las 13 horas. Sala d
 e Conferencias del DM/IMAS. \"Heat equation from a deterministic dynamics\
 " por Stefano Olla (Université Paris Dauphine PSL). Nos reunimos para asi
 stir al seminario\, que será virtual\, y transmitido por: https://impa-br
 .zoom.us/j/95805813232?pwd=Rnd4TU9pUTRhQm5xa0Mvb0gxa0xDUT09
CATEGORIES:General
URL;VALUE=URI:https://exactas.uba.ar/agenda/?mc_id=2325&#038;vcal=2325
METHOD:PUBLISH
END:VEVENT
END:VCALENDAR