BEGIN:VCALENDAR
VERSION:2.0
PRODID:spatie/icalendar-generator
DESCRIPTION:Events from Facultad de Ciencias Exactas y Naturales de la Univ
 ersidad de Buenos Aires
X-WR-CALDESC:Events from Facultad de Ciencias Exactas y Naturales de la Uni
 versidad de Buenos Aires
REFRESH-INTERVAL;VALUE=DURATION:PT1440M
X-PUBLISHED-TTL:PT1440M
BEGIN:VTIMEZONE
TZID:America/Argentina/Buenos_Aires
BEGIN:STANDARD
DTSTART:20230907T140000Z
TZOFFSETFROM:-0300
TZOFFSETTO:-0300
END:STANDARD
END:VTIMEZONE
BEGIN:VTIMEZONE
TZID:UTC
BEGIN:STANDARD
DTSTART:20250724T002820Z
TZOFFSETFROM:+0000
TZOFFSETTO:+0000
END:STANDARD
END:VTIMEZONE
BEGIN:VEVENT
UID:2300-1581
DTSTAMP:20260420T002820Z
SUMMARY:Vení a instalar Linux en tu compu: IV parTUXza del CIMA/DCAO/IFAEC
 I
LOCATION:
ORGANIZER;CN=Adrián Negro:MAILTO:adrian.negro@de.fcen.uba.ar
DTSTART;TZID=America/Argentina/Buenos_Aires:20240603T140000
DTEND;TZID=America/Argentina/Buenos_Aires:20240607T150000
X-ALT-DESC;FMTTYPE=TEXT/HTML:La semana del 3 al 7 de junio va a acontecer l
 a IV parTUXza del CIMA/DCAO/IFAECI. Este evento consiste en la asistencia 
 para la instalación del sistema operativo libre ‘Linux’ en los equipo
 s personales que traigan los y las participantes. También habrá pequeña
 s introducciones de una hora sobre distintas herramientas y programas de i
 nterés. El&amp;hellip\;
CATEGORIES:General
URL;VALUE=URI:https://exactas.uba.ar/agenda/?mc_id=2300&#038;vcal=2300
METHOD:PUBLISH
END:VEVENT
END:VCALENDAR