BEGIN:VCALENDAR
VERSION:2.0
PRODID:spatie/icalendar-generator
DESCRIPTION:Events from Facultad de Ciencias Exactas y Naturales de la Univ
 ersidad de Buenos Aires
X-WR-CALDESC:Events from Facultad de Ciencias Exactas y Naturales de la Uni
 versidad de Buenos Aires
REFRESH-INTERVAL;VALUE=DURATION:PT1440M
X-PUBLISHED-TTL:PT1440M
BEGIN:VTIMEZONE
TZID:America/Argentina/Buenos_Aires
BEGIN:STANDARD
DTSTART:20230724T000000Z
TZOFFSETFROM:-0300
TZOFFSETTO:-0300
END:STANDARD
END:VTIMEZONE
BEGIN:VTIMEZONE
TZID:UTC
BEGIN:STANDARD
DTSTART:20250726T131224Z
TZOFFSETFROM:+0000
TZOFFSETTO:+0000
END:STANDARD
END:VTIMEZONE
BEGIN:VEVENT
UID:2284-1565
DTSTAMP:20260422T131224Z
SUMMARY:Seminario de Modelos Estocásticos (ModEsto) con Cecilia De Vita
LOCATION:
ORGANIZER;CN=Adrián Negro:MAILTO:adrian.negro@de.fcen.uba.ar
DTSTART;TZID=America/Argentina/Buenos_Aires;VALUE=DATE:20240419
DTEND;TZID=America/Argentina/Buenos_Aires;VALUE=DATE:20240420
X-ALT-DESC;FMTTYPE=TEXT/HTML:El viernes 19 de abril a las 12:10 en la Sala 
 de Conferencias del Departamento de Matemática\, tendrá lugar otra edici
 ón del Seminario ModEsto. Cecilia De Vita (IMAS - CONICET / Exactas UBA) 
 dictará la charla \"Sincronización en grafos aleatorios geométricos\". 
 Los encuentros del seminario ModEsto tienen lugar los viernes a las 12hs. 
 Son mayormente&amp;hellip\;
CATEGORIES:General
URL;VALUE=URI:https://exactas.uba.ar/agenda/?mc_id=2284&#038;vcal=2284
METHOD:PUBLISH
END:VEVENT
END:VCALENDAR