BEGIN:VCALENDAR
VERSION:2.0
PRODID:spatie/icalendar-generator
DESCRIPTION:Events from Facultad de Ciencias Exactas y Naturales de la Univ
 ersidad de Buenos Aires
X-WR-CALDESC:Events from Facultad de Ciencias Exactas y Naturales de la Uni
 versidad de Buenos Aires
REFRESH-INTERVAL;VALUE=DURATION:PT1440M
X-PUBLISHED-TTL:PT1440M
BEGIN:VTIMEZONE
TZID:America/Argentina/Buenos_Aires
BEGIN:STANDARD
DTSTART:20230225T130000Z
TZOFFSETFROM:-0300
TZOFFSETTO:-0300
END:STANDARD
END:VTIMEZONE
BEGIN:VTIMEZONE
TZID:UTC
BEGIN:STANDARD
DTSTART:20250726T194400Z
TZOFFSETFROM:+0000
TZOFFSETTO:+0000
END:STANDARD
END:VTIMEZONE
BEGIN:VEVENT
UID:2192-1481
DTSTAMP:20260422T194400Z
SUMMARY:Coloquios DCAO/CIMA\, con Viviana Martinovich
LOCATION:
ORGANIZER;CN=Gabriel Platas:MAILTO:gfplatas@de.fcen.uba.ar
DTSTART;TZID=America/Argentina/Buenos_Aires:20231122T130000
DTEND;TZID=America/Argentina/Buenos_Aires:20231122T140000
X-ALT-DESC;FMTTYPE=TEXT/HTML:Miércoles 22/11\, a las 13.00\, en aula 8/Sem
 inarios (CIMA\, Pabellón 2\, 2do. piso) \"Industrializar el diálogo cien
 tífico: ¿cómo inciden los procesos de producción industrial a gran esc
 ala de artículos científicos en el ecosistema de investigación y public
 ación de la comunidad científica?\"\, por Viviana Martinovich. Para quie
 nes no pueden acercarse: https://exactas-uba.zoom.us/j/88963632656 Meeting
  ID: 889 6363 2656&amp;hellip\;
CATEGORIES:General
URL;VALUE=URI:https://exactas.uba.ar/agenda/?mc_id=2192&#038;vcal=2192
METHOD:PUBLISH
END:VEVENT
END:VCALENDAR