BEGIN:VCALENDAR
VERSION:2.0
PRODID:spatie/icalendar-generator
DESCRIPTION:Events from Facultad de Ciencias Exactas y Naturales de la Univ
 ersidad de Buenos Aires
X-WR-CALDESC:Events from Facultad de Ciencias Exactas y Naturales de la Uni
 versidad de Buenos Aires
REFRESH-INTERVAL;VALUE=DURATION:PT1440M
X-PUBLISHED-TTL:PT1440M
BEGIN:VTIMEZONE
TZID:America/Argentina/Buenos_Aires
BEGIN:STANDARD
DTSTART:20230224T110000Z
TZOFFSETFROM:-0300
TZOFFSETTO:-0300
END:STANDARD
END:VTIMEZONE
BEGIN:VTIMEZONE
TZID:UTC
BEGIN:STANDARD
DTSTART:20250724T193459Z
TZOFFSETFROM:+0000
TZOFFSETTO:+0000
END:STANDARD
END:VTIMEZONE
BEGIN:VEVENT
UID:2183-1472
DTSTAMP:20260420T193459Z
SUMMARY:Charla de Paolo Barberi: \"Reconciling Agricultural Production with
  Biodiversity Conservation\"
LOCATION:
ORGANIZER;CN=Adrián Negro:MAILTO:adrian.negro@de.fcen.uba.ar
DTSTART;TZID=America/Argentina/Buenos_Aires:20231121T110000
DTEND;TZID=America/Argentina/Buenos_Aires:20231121T120000
X-ALT-DESC;FMTTYPE=TEXT/HTML:En el marco de una visita gestionada por el Ce
 ntro Ítalo-Argentino de Altos Estudios de la Universidad de Buenos Aires 
 (UBA-CIAAE)\, y coincidiendo con la programación de las Jornadas Socioamb
 ientales de la Facultad de Ciencias Exactas y Naturales (FCEyN)\, el docto
 r Paolo Barberi (Sant'Anna Scuola Universitaria Superiore\, Pisa\, Italia)
  brindará una charla sobre producción agrícola&amp;hellip\;
CATEGORIES:General
URL;VALUE=URI:https://exactas.uba.ar/agenda/?mc_id=2183&#038;vcal=2183
METHOD:PUBLISH
END:VEVENT
END:VCALENDAR