BEGIN:VCALENDAR
VERSION:2.0
PRODID:spatie/icalendar-generator
DESCRIPTION:Events from Facultad de Ciencias Exactas y Naturales de la Univ
 ersidad de Buenos Aires
X-WR-CALDESC:Events from Facultad de Ciencias Exactas y Naturales de la Uni
 versidad de Buenos Aires
REFRESH-INTERVAL;VALUE=DURATION:PT1440M
X-PUBLISHED-TTL:PT1440M
BEGIN:VTIMEZONE
TZID:America/Argentina/Buenos_Aires
BEGIN:STANDARD
DTSTART:20230302T000000Z
TZOFFSETFROM:-0300
TZOFFSETTO:-0300
END:STANDARD
END:VTIMEZONE
BEGIN:VTIMEZONE
TZID:UTC
BEGIN:STANDARD
DTSTART:20250728T015112Z
TZOFFSETFROM:+0000
TZOFFSETTO:+0000
END:STANDARD
END:VTIMEZONE
BEGIN:VEVENT
UID:2175-1465
DTSTAMP:20260424T015112Z
SUMMARY:Comienza Jornada de Reciclaje de aparatos eléctricos y electrónic
 os (RAEE)
LOCATION:
ORGANIZER;CN=Gabriel Platas:MAILTO:gfplatas@de.fcen.uba.ar
DTSTART;TZID=America/Argentina/Buenos_Aires;VALUE=DATE:20231127
DTEND;TZID=America/Argentina/Buenos_Aires;VALUE=DATE:20231128
X-ALT-DESC;FMTTYPE=TEXT/HTML:Invitamos a toda la comunidad de la facultad a
  participar de una nueva jornada de “Reciclaje de aparatos eléctricos y
  electrónicos (RAEE)”\, llevada adelante por el Programa Exactas Verde 
 de la Secretaría de Extensión\, Cultura Científica y Bienestar. Dicha a
 ctividad se realizará los días 27 de noviembre y 1ro de diciembre de est
 e año. El&amp;hellip\;
CATEGORIES:General
URL;VALUE=URI:https://exactas.uba.ar/agenda/?mc_id=2175&#038;vcal=2175
METHOD:PUBLISH
END:VEVENT
END:VCALENDAR