BEGIN:VCALENDAR
VERSION:2.0
PRODID:spatie/icalendar-generator
DESCRIPTION:Events from Facultad de Ciencias Exactas y Naturales de la Univ
 ersidad de Buenos Aires
X-WR-CALDESC:Events from Facultad de Ciencias Exactas y Naturales de la Uni
 versidad de Buenos Aires
REFRESH-INTERVAL;VALUE=DURATION:PT1440M
X-PUBLISHED-TTL:PT1440M
BEGIN:VTIMEZONE
TZID:America/Argentina/Buenos_Aires
BEGIN:STANDARD
DTSTART:20220918T120000Z
TZOFFSETFROM:-0300
TZOFFSETTO:-0300
END:STANDARD
END:VTIMEZONE
BEGIN:VTIMEZONE
TZID:UTC
BEGIN:STANDARD
DTSTART:20250725T211328Z
TZOFFSETFROM:+0000
TZOFFSETTO:+0000
END:STANDARD
END:VTIMEZONE
BEGIN:VEVENT
UID:1971-1269
DTSTAMP:20260421T211328Z
SUMMARY:Charla con candidatas y candidatos al directorio del CONICET
LOCATION:
ORGANIZER;CN=Adrián Negro:MAILTO:adrian.negro@de.fcen.uba.ar
DTSTART;TZID=America/Argentina/Buenos_Aires:20230615T120000
DTEND;TZID=America/Argentina/Buenos_Aires:20230615T130000
X-ALT-DESC;FMTTYPE=TEXT/HTML:El jueves 15 de junio a las 12 en el aula 1403
  del Cero + Infinito\, tendrá lugar una charla abierta con los candidatos
  y candidatas a representantes del área de Ciencias Biológicas y de la S
 alud del CONICET\, Claudia Capurro y Carlos Lanusse. La presentación esta
 rá a cargo de Alberto Kornblihtt\, actual director del&amp;hellip\;
CATEGORIES:General
URL;VALUE=URI:https://exactas.uba.ar/agenda/?mc_id=1971&#038;vcal=1971
METHOD:PUBLISH
END:VEVENT
END:VCALENDAR