BEGIN:VCALENDAR
VERSION:2.0
PRODID:spatie/icalendar-generator
DESCRIPTION:Events from Facultad de Ciencias Exactas y Naturales de la Univ
 ersidad de Buenos Aires
X-WR-CALDESC:Events from Facultad de Ciencias Exactas y Naturales de la Uni
 versidad de Buenos Aires
REFRESH-INTERVAL;VALUE=DURATION:PT1440M
X-PUBLISHED-TTL:PT1440M
BEGIN:VTIMEZONE
TZID:America/Argentina/Buenos_Aires
BEGIN:STANDARD
DTSTART:20220916T000000Z
TZOFFSETFROM:-0300
TZOFFSETTO:-0300
END:STANDARD
END:VTIMEZONE
BEGIN:VTIMEZONE
TZID:UTC
BEGIN:STANDARD
DTSTART:20250725T195355Z
TZOFFSETFROM:+0000
TZOFFSETTO:+0000
END:STANDARD
END:VTIMEZONE
BEGIN:VEVENT
UID:1966-1264
DTSTAMP:20260421T195355Z
SUMMARY:Finaliza inscripción al Curso \"Promotoras/es de equidad de géner
 o\" 2023
LOCATION:
ORGANIZER;CN=Gabriel Platas:MAILTO:gfplatas@de.fcen.uba.ar
DTSTART;TZID=America/Argentina/Buenos_Aires;VALUE=DATE:20230613
DTEND;TZID=America/Argentina/Buenos_Aires;VALUE=DATE:20230614
X-ALT-DESC;FMTTYPE=TEXT/HTML:Se encuentra abierta la inscripción hasta el 
 13/06 al Curso “Promotores/as de equidad de género” de la Facultad a 
 realizarse los jueves 15\, 22 y 29 de junio de 10 a 12 horas en el aula 21
 2 (2° piso) del Pabellón II\, Ciudad Universitaria (CABA). Se trata de u
 n espacio abierto a todas las personas&amp;hellip\;
CATEGORIES:General
URL;VALUE=URI:https://exactas.uba.ar/agenda/?mc_id=1966&#038;vcal=1966
METHOD:PUBLISH
END:VEVENT
END:VCALENDAR