BEGIN:VCALENDAR
VERSION:2.0
PRODID:spatie/icalendar-generator
DESCRIPTION:Events from Facultad de Ciencias Exactas y Naturales de la Univ
 ersidad de Buenos Aires
X-WR-CALDESC:Events from Facultad de Ciencias Exactas y Naturales de la Uni
 versidad de Buenos Aires
REFRESH-INTERVAL;VALUE=DURATION:PT1440M
X-PUBLISHED-TTL:PT1440M
BEGIN:VTIMEZONE
TZID:America/Argentina/Buenos_Aires
BEGIN:STANDARD
DTSTART:20220913T000000Z
TZOFFSETFROM:-0300
TZOFFSETTO:-0300
END:STANDARD
END:VTIMEZONE
BEGIN:VTIMEZONE
TZID:UTC
BEGIN:STANDARD
DTSTART:20250725T224446Z
TZOFFSETFROM:+0000
TZOFFSETTO:+0000
END:STANDARD
END:VTIMEZONE
BEGIN:VEVENT
UID:1964-1262
DTSTAMP:20260421T224446Z
SUMMARY:Convocatoria: jornada en defensa de la Reserva Ciudad Universitaria
  - Costanera Norte
LOCATION:
ORGANIZER;CN=Gabriel Platas:MAILTO:gfplatas@de.fcen.uba.ar
DTSTART;TZID=America/Argentina/Buenos_Aires;VALUE=DATE:20230610
DTEND;TZID=America/Argentina/Buenos_Aires;VALUE=DATE:20230611
X-ALT-DESC;FMTTYPE=TEXT/HTML:Ante el conflicto de público conocimiento sob
 re la gestión de la RECU-CN y la intención del Gobierno de la Ciudad de 
 Buenos Aires de construir bares gastronómicos en la misma\, desde el Prog
 rama Socioambiental se está organizando una jornada en defensa de la rese
 rva. La misma se llevará a cabo durante el sábado 10/6 y&amp;hellip\;
CATEGORIES:General
URL;VALUE=URI:https://exactas.uba.ar/agenda/?mc_id=1964&#038;vcal=1964
METHOD:PUBLISH
END:VEVENT
END:VCALENDAR