BEGIN:VCALENDAR
VERSION:2.0
PRODID:spatie/icalendar-generator
DESCRIPTION:Events from Facultad de Ciencias Exactas y Naturales de la Univ
 ersidad de Buenos Aires
X-WR-CALDESC:Events from Facultad de Ciencias Exactas y Naturales de la Uni
 versidad de Buenos Aires
REFRESH-INTERVAL;VALUE=DURATION:PT1440M
X-PUBLISHED-TTL:PT1440M
BEGIN:VTIMEZONE
TZID:America/Argentina/Buenos_Aires
BEGIN:STANDARD
DTSTART:20220919T000000Z
TZOFFSETFROM:-0300
TZOFFSETTO:-0300
END:STANDARD
END:VTIMEZONE
BEGIN:VTIMEZONE
TZID:UTC
BEGIN:STANDARD
DTSTART:20250725T115035Z
TZOFFSETFROM:+0000
TZOFFSETTO:+0000
END:STANDARD
END:VTIMEZONE
BEGIN:VEVENT
UID:1962-1260
DTSTAMP:20260421T115035Z
SUMMARY:Finaliza la inscripción a la Convocatoria de Experiencias Didácti
 cas con estudiantes de secundaria
LOCATION:
ORGANIZER;CN=Adrián Negro:MAILTO:adrian.negro@de.fcen.uba.ar
DTSTART;TZID=America/Argentina/Buenos_Aires:20230616T000000
DTEND;TZID=America/Argentina/Buenos_Aires:20230616T010000
X-ALT-DESC;FMTTYPE=TEXT/HTML:La Dirección de Orientación Vocacional llama
  a selección de laboratorios de los Departamentos de Química y Biología
  para participar del Programa Experiencias Didácticas 2023\, acompañando
  a estudiantes de escuela secundaria en una actividad en el laboratorio du
 rante algunas semanas. Allí participan en un proyecto de investigación c
 ientífica acotado\, planificado por docentes/investigadores de Exactas\, 
 quienes guían&amp;hellip\;
CATEGORIES:General
URL;VALUE=URI:https://exactas.uba.ar/agenda/?mc_id=1962&#038;vcal=1962
METHOD:PUBLISH
END:VEVENT
END:VCALENDAR