BEGIN:VCALENDAR
VERSION:2.0
PRODID:spatie/icalendar-generator
DESCRIPTION:Events from Facultad de Ciencias Exactas y Naturales de la Univ
 ersidad de Buenos Aires
X-WR-CALDESC:Events from Facultad de Ciencias Exactas y Naturales de la Uni
 versidad de Buenos Aires
REFRESH-INTERVAL;VALUE=DURATION:PT1440M
X-PUBLISHED-TTL:PT1440M
BEGIN:VTIMEZONE
TZID:America/Argentina/Buenos_Aires
BEGIN:STANDARD
DTSTART:20220916T140000Z
TZOFFSETFROM:-0300
TZOFFSETTO:-0300
END:STANDARD
END:VTIMEZONE
BEGIN:VTIMEZONE
TZID:UTC
BEGIN:STANDARD
DTSTART:20250725T224446Z
TZOFFSETFROM:+0000
TZOFFSETTO:+0000
END:STANDARD
END:VTIMEZONE
BEGIN:VEVENT
UID:1936-1238
DTSTAMP:20260421T224446Z
SUMMARY:Charla de las Lic en Ciencias Geológicas y Paleontología
LOCATION:
ORGANIZER;CN=Gabriel Platas:MAILTO:gfplatas@de.fcen.uba.ar
DTSTART;TZID=America/Argentina/Buenos_Aires:20230613T140000
DTEND;TZID=America/Argentina/Buenos_Aires:20230613T150000
X-ALT-DESC;FMTTYPE=TEXT/HTML:La actividad está dirigida a futuros estudian
 tes\, es en modo virtual y con inscripción previa en: https://forms.gle/j
 6E9m3dT4HDa8F6x8 Un día antes enviaremos por mail los datos para ingresar
  al Zoom. Por cualquier duda escribir a dov@de.fcen.uba.ar
CATEGORIES:General
URL;VALUE=URI:https://exactas.uba.ar/agenda/?mc_id=1936&#038;vcal=1936
METHOD:PUBLISH
END:VEVENT
END:VCALENDAR