BEGIN:VCALENDAR
VERSION:2.0
PRODID:spatie/icalendar-generator
DESCRIPTION:Events from Facultad de Ciencias Exactas y Naturales de la Univ
 ersidad de Buenos Aires
X-WR-CALDESC:Events from Facultad de Ciencias Exactas y Naturales de la Uni
 versidad de Buenos Aires
REFRESH-INTERVAL;VALUE=DURATION:PT1440M
X-PUBLISHED-TTL:PT1440M
BEGIN:VTIMEZONE
TZID:America/Argentina/Buenos_Aires
BEGIN:STANDARD
DTSTART:20220912T000000Z
TZOFFSETFROM:-0300
TZOFFSETTO:-0300
END:STANDARD
END:VTIMEZONE
BEGIN:VTIMEZONE
TZID:UTC
BEGIN:STANDARD
DTSTART:20250725T211929Z
TZOFFSETFROM:+0000
TZOFFSETTO:+0000
END:STANDARD
END:VTIMEZONE
BEGIN:VEVENT
UID:1872-1184
DTSTAMP:20260421T211929Z
SUMMARY:Cierra la Convocatoria UBAINT DOCTORAL
LOCATION:
ORGANIZER;CN=Adrián Negro:MAILTO:adrian.negro@de.fcen.uba.ar
DTSTART;TZID=America/Argentina/Buenos_Aires:20230609T000000
DTEND;TZID=America/Argentina/Buenos_Aires:20230609T010000
X-ALT-DESC;FMTTYPE=TEXT/HTML:El 9 de junio cierra la convocatoria del Progr
 ama UBAINT DOCTORAL impulsado y gestionado por la Secretaría de Relacione
 s Internacionales de la Universidad de Buenos Aires. La convocatoria compl
 eta con más información sobre el UBAINT Doctoral y la documentación a p
 resentar está disponible en: https://exactas.uba.ar/movilidad-internacion
 al/ Para más información: secdri@de.fcen.uba.ar
CATEGORIES:General
URL;VALUE=URI:https://exactas.uba.ar/agenda/?mc_id=1872&#038;vcal=1872
METHOD:PUBLISH
END:VEVENT
END:VCALENDAR