BEGIN:VCALENDAR
VERSION:2.0
PRODID:spatie/icalendar-generator
DESCRIPTION:Events from Facultad de Ciencias Exactas y Naturales de la Univ
 ersidad de Buenos Aires
X-WR-CALDESC:Events from Facultad de Ciencias Exactas y Naturales de la Uni
 versidad de Buenos Aires
REFRESH-INTERVAL;VALUE=DURATION:PT1440M
X-PUBLISHED-TTL:PT1440M
BEGIN:VTIMEZONE
TZID:America/Argentina/Buenos_Aires
BEGIN:STANDARD
DTSTART:20230405T000000Z
TZOFFSETFROM:-0300
TZOFFSETTO:-0300
END:STANDARD
END:VTIMEZONE
BEGIN:VTIMEZONE
TZID:UTC
BEGIN:STANDARD
DTSTART:20250724T002820Z
TZOFFSETFROM:+0000
TZOFFSETTO:+0000
END:STANDARD
END:VTIMEZONE
BEGIN:VEVENT
UID:1706-1046
DTSTAMP:20260420T002820Z
SUMMARY:Subsidio para Gastos por Tareas de Cuidado para participantes de Re
 uniones Científicas
LOCATION:
ORGANIZER;CN=Adrián Negro:MAILTO:adrian.negro@de.fcen.uba.ar
DTSTART;TZID=America/Argentina/Buenos_Aires;VALUE=DATE:20231231
DTEND;TZID=America/Argentina/Buenos_Aires;VALUE=DATE:20240101
X-ALT-DESC;FMTTYPE=TEXT/HTML:La Secretaría de Promoción de la Equidad y G
 éneros (SEQUIGEN) difunde el nuevo programa de Subsidios para Gastos por 
 Tareas de Cuidado en Reuniones Científicas\, recientemente lanzado por el
  Ministerio de Ciencia y Tecnología de la Nación. Su objetivo es contrib
 uir a generar condiciones de igualdad de género para la participación en
  reuniones científicas de&amp;hellip\;
CATEGORIES:General
URL;VALUE=URI:https://exactas.uba.ar/agenda/?mc_id=1706&#038;vcal=1706
METHOD:PUBLISH
END:VEVENT
END:VCALENDAR