BEGIN:VCALENDAR
VERSION:2.0
PRODID:spatie/icalendar-generator
DESCRIPTION:Events from Facultad de Ciencias Exactas y Naturales de la Univ
 ersidad de Buenos Aires
X-WR-CALDESC:Events from Facultad de Ciencias Exactas y Naturales de la Uni
 versidad de Buenos Aires
REFRESH-INTERVAL;VALUE=DURATION:PT1440M
X-PUBLISHED-TTL:PT1440M
BEGIN:VTIMEZONE
TZID:America/Argentina/Buenos_Aires
BEGIN:STANDARD
DTSTART:20220324T000000Z
TZOFFSETFROM:-0300
TZOFFSETTO:-0300
END:STANDARD
END:VTIMEZONE
BEGIN:VTIMEZONE
TZID:UTC
BEGIN:STANDARD
DTSTART:20250724T195939Z
TZOFFSETFROM:+0000
TZOFFSETTO:+0000
END:STANDARD
END:VTIMEZONE
BEGIN:VEVENT
UID:1698-1042
DTSTAMP:20260420T195939Z
SUMMARY:Convocatoria a Proyectos de Investigación Plurianuales PIP 2023/20
 25
LOCATION:
ORGANIZER;CN=Adrián Negro:MAILTO:adrian.negro@de.fcen.uba.ar
DTSTART;TZID=America/Argentina/Buenos_Aires;VALUE=DATE:20221219
DTEND;TZID=America/Argentina/Buenos_Aires;VALUE=DATE:20221220
X-ALT-DESC;FMTTYPE=TEXT/HTML:Se encuentra abierta la Convocatoria a Proyect
 os de Investigación Plurianuales PIP 2023/2025. Las fechas límites son d
 el 19 al 21 de diciembre\, dependiendo del DNI del titular del proyecto. S
 e sugiere prestar atención a los criterios de admisibilidad: https://conv
 ocatorias.conicet.gov.ar/proyectos-pip/ Se necesita aval del decano de la 
 Facultad. Para consultas dirigirse a: consultaspip2023@conicet.gov.ar
CATEGORIES:General
URL;VALUE=URI:https://exactas.uba.ar/agenda/?mc_id=1698&#038;vcal=1698
METHOD:PUBLISH
END:VEVENT
END:VCALENDAR