BEGIN:VCALENDAR
VERSION:2.0
PRODID:spatie/icalendar-generator
DESCRIPTION:Events from Facultad de Ciencias Exactas y Naturales de la Univ
 ersidad de Buenos Aires
X-WR-CALDESC:Events from Facultad de Ciencias Exactas y Naturales de la Uni
 versidad de Buenos Aires
REFRESH-INTERVAL;VALUE=DURATION:PT1440M
X-PUBLISHED-TTL:PT1440M
BEGIN:VTIMEZONE
TZID:America/Argentina/Buenos_Aires
BEGIN:STANDARD
DTSTART:20220317T190000Z
TZOFFSETFROM:-0300
TZOFFSETTO:-0300
END:STANDARD
END:VTIMEZONE
BEGIN:VTIMEZONE
TZID:UTC
BEGIN:STANDARD
DTSTART:20250723T164649Z
TZOFFSETFROM:+0000
TZOFFSETTO:+0000
END:STANDARD
END:VTIMEZONE
BEGIN:VEVENT
UID:1682-1031
DTSTAMP:20260419T164649Z
SUMMARY:Curso de verano \"Biología del Desarrollo Vegetativo de Plantas\" 
 2023 
LOCATION:
ORGANIZER;CN=CCC:MAILTO:ccc@fcen.uba.ar
DTSTART;TZID=America/Argentina/Buenos_Aires:20221212T190000
DTEND;TZID=America/Argentina/Buenos_Aires:20221212T200000
X-ALT-DESC;FMTTYPE=TEXT/HTML:Del 30 de enero al 15 de marzo se dictará la 
 materia presencial \"Biología del Desarrollo Vegetativo de Plantas\"\, te
 órico-práctica\, dirigida a estudiantes tanto de grado como de posgrado 
 de Ciencias Biológicas\, Agronomía y carreras afines. Inscripción: a pa
 rtir del 12 de diciembre. Preinscripción: Dr. Fabio Causin\, e-mail ssvhf
 c@gmail.com
CATEGORIES:General
URL;VALUE=URI:https://exactas.uba.ar/agenda/?mc_id=1682&#038;vcal=1682
METHOD:PUBLISH
END:VEVENT
END:VCALENDAR