BEGIN:VCALENDAR
VERSION:2.0
PRODID:spatie/icalendar-generator
DESCRIPTION:Events from Facultad de Ciencias Exactas y Naturales de la Univ
 ersidad de Buenos Aires
X-WR-CALDESC:Events from Facultad de Ciencias Exactas y Naturales de la Uni
 versidad de Buenos Aires
REFRESH-INTERVAL;VALUE=DURATION:PT1440M
X-PUBLISHED-TTL:PT1440M
BEGIN:VTIMEZONE
TZID:America/Argentina/Buenos_Aires
BEGIN:STANDARD
DTSTART:20220228T190000Z
TZOFFSETFROM:-0300
TZOFFSETTO:-0300
END:STANDARD
END:VTIMEZONE
BEGIN:VTIMEZONE
TZID:UTC
BEGIN:STANDARD
DTSTART:20250725T224446Z
TZOFFSETFROM:+0000
TZOFFSETTO:+0000
END:STANDARD
END:VTIMEZONE
BEGIN:VEVENT
UID:1681-1030
DTSTAMP:20260421T224446Z
SUMMARY:Charla \"Del Big Bang a los Agujeros Negros\"
LOCATION:
ORGANIZER;CN=CCC:MAILTO:ccc@fcen.uba.ar
DTSTART;TZID=America/Argentina/Buenos_Aires:20221125T190000
DTEND;TZID=America/Argentina/Buenos_Aires:20221125T200000
X-ALT-DESC;FMTTYPE=TEXT/HTML:El viernes 25 de noviembre\, a las 19\, se ofr
 ecerá la charla divulgativa \"Del Big Bang a los Agujeros Negros\"\, que 
 estará a cargo del Dr. Gabriel Bengochea (IAFE\, CONICET-UBA)\, en el mar
 co de su Ciclo de Charlas 2022 que organiza el Instituto de Astronomía y 
 Física del Espacio\, IAFE. En el Planetario Galileo Galilei\,&amp;hellip\;
CATEGORIES:General
URL;VALUE=URI:https://exactas.uba.ar/agenda/?mc_id=1681&#038;vcal=1681
METHOD:PUBLISH
END:VEVENT
END:VCALENDAR