BEGIN:VCALENDAR
VERSION:2.0
PRODID:spatie/icalendar-generator
DESCRIPTION:Events from Facultad de Ciencias Exactas y Naturales de la Univ
 ersidad de Buenos Aires
X-WR-CALDESC:Events from Facultad de Ciencias Exactas y Naturales de la Uni
 versidad de Buenos Aires
REFRESH-INTERVAL;VALUE=DURATION:PT1440M
X-PUBLISHED-TTL:PT1440M
BEGIN:VTIMEZONE
TZID:America/Argentina/Buenos_Aires
BEGIN:STANDARD
DTSTART:20220304T110000Z
TZOFFSETFROM:-0300
TZOFFSETTO:-0300
END:STANDARD
END:VTIMEZONE
BEGIN:VTIMEZONE
TZID:UTC
BEGIN:STANDARD
DTSTART:20250727T162558Z
TZOFFSETFROM:+0000
TZOFFSETTO:+0000
END:STANDARD
END:VTIMEZONE
BEGIN:VEVENT
UID:1679-1028
DTSTAMP:20260423T162558Z
SUMMARY:Capacitación \"Encuestas de exposición: para qué sirve y cómo c
 ompletarla\"
LOCATION:
ORGANIZER;CN=CCC:MAILTO:ccc@fcen.uba.ar
DTSTART;TZID=America/Argentina/Buenos_Aires:20221129T110000
DTEND;TZID=America/Argentina/Buenos_Aires:20221129T120000
X-ALT-DESC;FMTTYPE=TEXT/HTML:El Servicio de Higiene y Seguridad organiza un
 a capacitacion sobre \"Encuestas de exposición: para qué sirve y cómo c
 ompletarla\"\, que se realizará por ZOOM el martes 29 de noviembre\, a la
 s 11. Inscripción: https://forms.gle/CC2HTKCouZnGwG4EA La Declaración de
  Exposición a Riesgos tiene carácter obligatorio aunque se considere que
  no se está expuesto a ningún riesgo.
CATEGORIES:General
URL;VALUE=URI:https://exactas.uba.ar/agenda/?mc_id=1679&#038;vcal=1679
METHOD:PUBLISH
END:VEVENT
END:VCALENDAR