BEGIN:VCALENDAR
VERSION:2.0
PRODID:spatie/icalendar-generator
DESCRIPTION:Events from Facultad de Ciencias Exactas y Naturales de la Univ
 ersidad de Buenos Aires
X-WR-CALDESC:Events from Facultad de Ciencias Exactas y Naturales de la Uni
 versidad de Buenos Aires
REFRESH-INTERVAL;VALUE=DURATION:PT1440M
X-PUBLISHED-TTL:PT1440M
BEGIN:VTIMEZONE
TZID:America/Argentina/Buenos_Aires
BEGIN:STANDARD
DTSTART:20220303T150000Z
TZOFFSETFROM:-0300
TZOFFSETTO:-0300
END:STANDARD
END:VTIMEZONE
BEGIN:VTIMEZONE
TZID:UTC
BEGIN:STANDARD
DTSTART:20250724T022217Z
TZOFFSETFROM:+0000
TZOFFSETTO:+0000
END:STANDARD
END:VTIMEZONE
BEGIN:VEVENT
UID:1625-981
DTSTAMP:20260420T022217Z
SUMMARY:Charlas de Carreras
LOCATION:
ORGANIZER;CN=CCC:MAILTO:ccc@fcen.uba.ar
DTSTART;TZID=America/Argentina/Buenos_Aires:20221128T150000
DTEND;TZID=America/Argentina/Buenos_Aires:20221128T160000
X-ALT-DESC;FMTTYPE=TEXT/HTML:Cronograma de las próximas charlas de carrera
 . Ciclo presencial. Todas a las 15 hs. Noviembre Lunes 7 de noviembre: Lic
 enciatura en Ciencias Geológicas y Paleontología. Martes 8 de noviembre:
  Licenciatura en Ciencias de la Atmósfera y Oceanografía. Jueves 10 de n
 oviembre: Licenciatura en Ciencias Biológicas. Lunes 14 de noviembre: Lic
 enciatura en Ciencias Físicas. Martes 15&amp;hellip\;
CATEGORIES:General
URL;VALUE=URI:https://exactas.uba.ar/agenda/?mc_id=1625&#038;vcal=1625
METHOD:PUBLISH
END:VEVENT
END:VCALENDAR