BEGIN:VCALENDAR
VERSION:2.0
PRODID:spatie/icalendar-generator
DESCRIPTION:Events from Facultad de Ciencias Exactas y Naturales de la Univ
 ersidad de Buenos Aires
X-WR-CALDESC:Events from Facultad de Ciencias Exactas y Naturales de la Uni
 versidad de Buenos Aires
REFRESH-INTERVAL;VALUE=DURATION:PT1440M
X-PUBLISHED-TTL:PT1440M
BEGIN:VTIMEZONE
TZID:America/Argentina/Buenos_Aires
BEGIN:STANDARD
DTSTART:20211111T000000Z
TZOFFSETFROM:-0300
TZOFFSETTO:-0300
END:STANDARD
END:VTIMEZONE
BEGIN:VTIMEZONE
TZID:UTC
BEGIN:STANDARD
DTSTART:20250724T162252Z
TZOFFSETFROM:+0000
TZOFFSETTO:+0000
END:STANDARD
END:VTIMEZONE
BEGIN:VEVENT
UID:1446-846
DTSTAMP:20260420T162252Z
SUMMARY:Actualización obligatoria sobre el uso de animales en experimentac
 ión
LOCATION:
ORGANIZER;CN=CCC:MAILTO:ccc@fcen.uba.ar
DTSTART;TZID=America/Argentina/Buenos_Aires;VALUE=DATE:20220808
DTEND;TZID=America/Argentina/Buenos_Aires;VALUE=DATE:20220809
X-ALT-DESC;FMTTYPE=TEXT/HTML:Hasta el lunes 8 de agosto inclusive\, está a
 bierta la inscripción a la tercera edición de la “Actualización oblig
 atoria sobre el uso de animales en experimentación” (actualización obl
 igatoria CICUAL) que se realizará 16 al 19 de agosto. Inscripción: https
 ://forms.gle/mpCzvNyevM7mKkye8 Más información: https://exactas.uba.ar/c
 icual/actualizacion-obligatoria-cicual/ Esta actualización se dictará pa
 ra aquellas personas que ya han realizado previamente la&amp;hellip\;
CATEGORIES:General
URL;VALUE=URI:https://exactas.uba.ar/agenda/?mc_id=1446&#038;vcal=1446
METHOD:PUBLISH
END:VEVENT
END:VCALENDAR