BEGIN:VCALENDAR
VERSION:2.0
PRODID:spatie/icalendar-generator
DESCRIPTION:Events from Facultad de Ciencias Exactas y Naturales de la Univ
 ersidad de Buenos Aires
X-WR-CALDESC:Events from Facultad de Ciencias Exactas y Naturales de la Uni
 versidad de Buenos Aires
REFRESH-INTERVAL;VALUE=DURATION:PT1440M
X-PUBLISHED-TTL:PT1440M
BEGIN:VTIMEZONE
TZID:America/Argentina/Buenos_Aires
BEGIN:STANDARD
DTSTART:20211108T000000Z
TZOFFSETFROM:-0300
TZOFFSETTO:-0300
END:STANDARD
END:VTIMEZONE
BEGIN:VTIMEZONE
TZID:UTC
BEGIN:STANDARD
DTSTART:20250725T211929Z
TZOFFSETFROM:+0000
TZOFFSETTO:+0000
END:STANDARD
END:VTIMEZONE
BEGIN:VEVENT
UID:1439-839
DTSTAMP:20260421T211929Z
SUMMARY:Convocatorias BECAS ALEARG
LOCATION:
ORGANIZER;CN=CCC:MAILTO:ccc@fcen.uba.ar
DTSTART;TZID=America/Argentina/Buenos_Aires;VALUE=DATE:20220805
DTEND;TZID=America/Argentina/Buenos_Aires;VALUE=DATE:20220806
X-ALT-DESC;FMTTYPE=TEXT/HTML:Se encuentran abiertas las convocatorias BECAS
  ALEARG para investigaciones cortas o investigaciones largas en Alemania (
 becas tipo A y becas tipo B y C). Destinatarios: estudiantes de doctorado 
 o investigadores de nivel posdoctoral argentinos. Finalidad: realización 
 de estancias de investigación en universidades alemanas en el marco de es
 tudios doctorales o posdoctorales que el candidato esté&amp;hellip\;
CATEGORIES:General
URL;VALUE=URI:https://exactas.uba.ar/agenda/?mc_id=1439&#038;vcal=1439
METHOD:PUBLISH
END:VEVENT
END:VCALENDAR