BEGIN:VCALENDAR
VERSION:2.0
PRODID:spatie/icalendar-generator
DESCRIPTION:Events from Facultad de Ciencias Exactas y Naturales de la Univ
 ersidad de Buenos Aires
X-WR-CALDESC:Events from Facultad de Ciencias Exactas y Naturales de la Uni
 versidad de Buenos Aires
REFRESH-INTERVAL;VALUE=DURATION:PT1440M
X-PUBLISHED-TTL:PT1440M
BEGIN:VTIMEZONE
TZID:America/Argentina/Buenos_Aires
BEGIN:STANDARD
DTSTART:20211226T150000Z
TZOFFSETFROM:-0300
TZOFFSETTO:-0300
END:STANDARD
END:VTIMEZONE
BEGIN:VTIMEZONE
TZID:UTC
BEGIN:STANDARD
DTSTART:20250725T224447Z
TZOFFSETFROM:+0000
TZOFFSETTO:+0000
END:STANDARD
END:VTIMEZONE
BEGIN:VEVENT
UID:1428-828
DTSTAMP:20260421T224447Z
SUMMARY:Ciclo presencial de charlas de carrera: Licenciatura en Ciencia y T
 ecnología de los Alimentos
LOCATION:
ORGANIZER;CN=CCC:MAILTO:ccc@fcen.uba.ar
DTSTART;TZID=America/Argentina/Buenos_Aires:20220922T150000
DTEND;TZID=America/Argentina/Buenos_Aires:20220922T160000
X-ALT-DESC;FMTTYPE=TEXT/HTML:Agosto-septiembre. A las 15. Jueves 22 de sept
 iembre: Licenciatura en Ciencia y Tecnología de los Alimentos. La activid
 ad es con inscripción previa: https://exactas.uba.ar/extension/ov/#menu-4
CATEGORIES:General
URL;VALUE=URI:https://exactas.uba.ar/agenda/?mc_id=1428&#038;vcal=1428
METHOD:PUBLISH
END:VEVENT
END:VCALENDAR