BEGIN:VCALENDAR
VERSION:2.0
PRODID:spatie/icalendar-generator
DESCRIPTION:Events from Facultad de Ciencias Exactas y Naturales de la Univ
 ersidad de Buenos Aires
X-WR-CALDESC:Events from Facultad de Ciencias Exactas y Naturales de la Uni
 versidad de Buenos Aires
REFRESH-INTERVAL;VALUE=DURATION:PT1440M
X-PUBLISHED-TTL:PT1440M
BEGIN:VTIMEZONE
TZID:America/Argentina/Buenos_Aires
BEGIN:STANDARD
DTSTART:20210819T143000Z
TZOFFSETFROM:-0300
TZOFFSETTO:-0300
END:STANDARD
END:VTIMEZONE
BEGIN:VTIMEZONE
TZID:UTC
BEGIN:STANDARD
DTSTART:20250728T073123Z
TZOFFSETFROM:+0000
TZOFFSETTO:+0000
END:STANDARD
END:VTIMEZONE
BEGIN:VEVENT
UID:1317-747
DTSTAMP:20260424T073123Z
SUMMARY:Ciclo de coloquios científicos IAFE 2022
LOCATION:
ORGANIZER;CN=CCC:MAILTO:ccc@fcen.uba.ar
DTSTART;TZID=America/Argentina/Buenos_Aires:20220516T143000
DTEND;TZID=America/Argentina/Buenos_Aires:20220516T153000
X-ALT-DESC;FMTTYPE=TEXT/HTML:El lunes 16 de mayo\, a las 14.30\, tendrá lu
 gar el coloquio \"El Día de la Luz a la luz del día\"\, que ofrecerá el
  Dr. Diego Arbó (IAFE)\, en el marco del Día Internacional de la Luz 202
 2 UNESCO. En el Aula del Edificio IAFE. El ingreso al aula esta sujeto a d
 isponibilidad de&amp;hellip\;
CATEGORIES:General
URL;VALUE=URI:https://exactas.uba.ar/agenda/?mc_id=1317&#038;vcal=1317
METHOD:PUBLISH
END:VEVENT
END:VCALENDAR