BEGIN:VCALENDAR
VERSION:2.0
PRODID:spatie/icalendar-generator
DESCRIPTION:Events from Facultad de Ciencias Exactas y Naturales de la Univ
 ersidad de Buenos Aires
X-WR-CALDESC:Events from Facultad de Ciencias Exactas y Naturales de la Uni
 versidad de Buenos Aires
REFRESH-INTERVAL;VALUE=DURATION:PT1440M
X-PUBLISHED-TTL:PT1440M
BEGIN:VTIMEZONE
TZID:America/Argentina/Buenos_Aires
BEGIN:STANDARD
DTSTART:20191006T180000Z
TZOFFSETFROM:-0300
TZOFFSETTO:-0300
END:STANDARD
END:VTIMEZONE
BEGIN:VTIMEZONE
TZID:UTC
BEGIN:STANDARD
DTSTART:20250724T112557Z
TZOFFSETFROM:+0000
TZOFFSETTO:+0000
END:STANDARD
END:VTIMEZONE
BEGIN:VEVENT
UID:102-62
DTSTAMP:20260420T112557Z
SUMMARY:Seminario \"La importancia de la vacunación en Argentina y avances
  sobre el COVID-19\"
LOCATION:
ORGANIZER;CN=CCC:MAILTO:ccc@fcen.uba.ar
DTSTART;TZID=America/Argentina/Buenos_Aires:20200702T180000
DTEND;TZID=America/Argentina/Buenos_Aires:20200702T190000
X-ALT-DESC;FMTTYPE=TEXT/HTML:Seminario online \"La importancia de la vacuna
 ción en Argentina y avances sobre el COVID-19\"\, a cargo de la Dra. Merc
 edes Cabrini. El jueves 2 de julio\, a las 18. Moderadora: Dra. Florencia 
 Cahn. Este seminario se encuadra dentro del lanzamiento de la Academia Jov
 en de Argentina (AJA) y su ciclo de seminarios online sobre \"Ambiente\,&amp;h
 ellip\;
CATEGORIES:General
URL;VALUE=URI:https://exactas.uba.ar/agenda/?mc_id=102&#038;vcal=102
METHOD:PUBLISH
END:VEVENT
END:VCALENDAR