BEGIN:VCALENDAR
VERSION:2.0
PRODID:spatie/icalendar-generator
DESCRIPTION:Events from Facultad de Ciencias Exactas y Naturales de la Univ
 ersidad de Buenos Aires
X-WR-CALDESC:Events from Facultad de Ciencias Exactas y Naturales de la Uni
 versidad de Buenos Aires
REFRESH-INTERVAL;VALUE=DURATION:PT1440M
X-PUBLISHED-TTL:PT1440M
BEGIN:VTIMEZONE
TZID:America/Argentina/Buenos_Aires
BEGIN:STANDARD
DTSTART:20250727T160000Z
TZOFFSETFROM:-0300
TZOFFSETTO:-0300
END:STANDARD
END:VTIMEZONE
BEGIN:VTIMEZONE
TZID:UTC
BEGIN:STANDARD
DTSTART:20250725T180610Z
TZOFFSETFROM:+0000
TZOFFSETTO:+0000
END:STANDARD
END:VTIMEZONE
BEGIN:VEVENT
UID:3014-2253
DTSTAMP:20260421T180610Z
SUMMARY:DÁTAME! las charlas de LCD\, con Facundo Sapienza
LOCATION:
ORGANIZER;CN=Gabriel Platas:MAILTO:gfplatas@de.fcen.uba.ar
DTSTART;TZID=America/Argentina/Buenos_Aires:20260423T160000
DTEND;TZID=America/Argentina/Buenos_Aires:20260423T170000
X-ALT-DESC;FMTTYPE=TEXT/HTML:Jueves 23/4\, las 16 hs en el aula 1402 del Pa
 bellón Cero + Infinito. \"Mezclando Física y Aprendizaje Automático par
 a entender los Glaciares\"\, por Facundo Sapienza. Sobre la charla: Los al
 goritmos de aprendizaje automático son de gran utilidad para combinar los
  enfoques tradicionales de modelado físico con métodos de asimilación d
 e datos. En esta charla\,&amp;hellip\;
CATEGORIES:General
URL;VALUE=URI:https://exactas.uba.ar/agenda/?ical=1&#038;mc_id=3014&#038;vc
 al=3014
METHOD:PUBLISH
END:VEVENT
END:VCALENDAR