BEGIN:VCALENDAR
VERSION:2.0
PRODID:spatie/icalendar-generator
DESCRIPTION:Events from Facultad de Ciencias Exactas y Naturales de la Univ
 ersidad de Buenos Aires
X-WR-CALDESC:Events from Facultad de Ciencias Exactas y Naturales de la Uni
 versidad de Buenos Aires
REFRESH-INTERVAL;VALUE=DURATION:PT1440M
X-PUBLISHED-TTL:PT1440M
BEGIN:VTIMEZONE
TZID:America/Argentina/Buenos_Aires
BEGIN:STANDARD
DTSTART:20250727T140000Z
TZOFFSETFROM:-0300
TZOFFSETTO:-0300
END:STANDARD
END:VTIMEZONE
BEGIN:VTIMEZONE
TZID:UTC
BEGIN:STANDARD
DTSTART:20250725T015551Z
TZOFFSETFROM:+0000
TZOFFSETTO:+0000
END:STANDARD
END:VTIMEZONE
BEGIN:VEVENT
UID:3013-2252
DTSTAMP:20260421T015551Z
SUMMARY:Coloquios del Departamento de Física\, con Andrés Rieznik
LOCATION:
ORGANIZER;CN=Gabriel Platas:MAILTO:gfplatas@de.fcen.uba.ar
DTSTART;TZID=America/Argentina/Buenos_Aires:20260423T140000
DTEND;TZID=America/Argentina/Buenos_Aires:20260423T150000
X-ALT-DESC;FMTTYPE=TEXT/HTML:Jueves 23/4\, a las 14 hs en el Aula Federman 
 del Pabellón 1. \"Diseño adaptativo de experimentos\"\, por Andrés Riez
 nik (Universidad Torcuato Di Tella).
CATEGORIES:General
URL;VALUE=URI:https://exactas.uba.ar/agenda/?ical=1&#038;mc_id=3013&#038;vc
 al=3013
METHOD:PUBLISH
END:VEVENT
END:VCALENDAR